BEGIN:VCALENDAR
VERSION:2.0
PRODID:-//Mannion Middle School - ECPv6.15.20//NONSGML v1.0//EN
CALSCALE:GREGORIAN
METHOD:PUBLISH
X-WR-CALNAME:Mannion Middle School
X-ORIGINAL-URL:https://mannionmiddleschool.com
X-WR-CALDESC:Events for Mannion Middle School
REFRESH-INTERVAL;VALUE=DURATION:PT1H
X-Robots-Tag:noindex
X-PUBLISHED-TTL:PT1H
BEGIN:VTIMEZONE
TZID:America/Los_Angeles
BEGIN:DAYLIGHT
TZOFFSETFROM:-0800
TZOFFSETTO:-0700
TZNAME:PDT
DTSTART:20250309T100000
END:DAYLIGHT
BEGIN:STANDARD
TZOFFSETFROM:-0700
TZOFFSETTO:-0800
TZNAME:PST
DTSTART:20251102T090000
END:STANDARD
BEGIN:DAYLIGHT
TZOFFSETFROM:-0800
TZOFFSETTO:-0700
TZNAME:PDT
DTSTART:20260308T100000
END:DAYLIGHT
BEGIN:STANDARD
TZOFFSETFROM:-0700
TZOFFSETTO:-0800
TZNAME:PST
DTSTART:20261101T090000
END:STANDARD
BEGIN:DAYLIGHT
TZOFFSETFROM:-0800
TZOFFSETTO:-0700
TZNAME:PDT
DTSTART:20270314T100000
END:DAYLIGHT
BEGIN:STANDARD
TZOFFSETFROM:-0700
TZOFFSETTO:-0800
TZNAME:PST
DTSTART:20271107T090000
END:STANDARD
END:VTIMEZONE
BEGIN:VEVENT
DTSTART;TZID=America/Los_Angeles:20260421T163000
DTEND;TZID=America/Los_Angeles:20260421T173000
DTSTAMP:20260419T133605
CREATED:20251101T173940Z
LAST-MODIFIED:20260419T200944Z
UID:10021122-1776789000-1776792600@mannionmiddleschool.com
SUMMARY:Boys Volleyball @ Cannon
DESCRIPTION:
URL:https://mannionmiddleschool.com/event/boys-volleyball-cannon/
LOCATION:Helen C. Cannon Junior High School\, 5850 Euclid St\, Las Vegas\, NV\, United States
CATEGORIES:Mannion Calendar
ORGANIZER;CN="Todd Petersen":MAILTO:petertc@nv.ccsd.net
GEO:36.083465;-115.116473
X-APPLE-STRUCTURED-LOCATION;VALUE=URI;X-ADDRESS=Helen C. Cannon Junior High School 5850 Euclid St Las Vegas NV United States;X-APPLE-RADIUS=500;X-TITLE=5850 Euclid St:geo:-115.116473,36.083465
END:VEVENT
BEGIN:VEVENT
DTSTART;TZID=America/Los_Angeles:20260421T173000
DTEND;TZID=America/Los_Angeles:20260421T183000
DTSTAMP:20260419T133605
CREATED:20251101T173940Z
LAST-MODIFIED:20260419T200944Z
UID:10021121-1776792600-1776796200@mannionmiddleschool.com
SUMMARY:Girls Volleyball @ Cannon
DESCRIPTION:
URL:https://mannionmiddleschool.com/event/girls-volleyball-cannon/
LOCATION:Helen C. Cannon Junior High School\, 5850 Euclid St\, Las Vegas\, NV\, United States
CATEGORIES:Mannion Calendar
ORGANIZER;CN="Todd Petersen":MAILTO:petertc@nv.ccsd.net
GEO:36.083465;-115.116473
X-APPLE-STRUCTURED-LOCATION;VALUE=URI;X-ADDRESS=Helen C. Cannon Junior High School 5850 Euclid St Las Vegas NV United States;X-APPLE-RADIUS=500;X-TITLE=5850 Euclid St:geo:-115.116473,36.083465
END:VEVENT
END:VCALENDAR